BEGIN:VCALENDAR
CALSCALE:GREGORIAN
PRODID:iCalendar-Ruby
VERSION:2.0
BEGIN:VEVENT
DESCRIPTION:  Thema der Dissertation:  Performance-Driven Algorithm Enginee
 ring Optimising Pairwise Sequence Alignment and Pattern Matching Algorithms
  in the Era of Pangenomic Sequence Analysis    Thema der Disputation:  Sequ
 ence-to-Graph Alignment 
DTSTAMP:20231213T120400
DTSTART:20231215T130000
CLASS:PUBLIC
LOCATION:Seminarraum 007/008\n (Fachbereich Mathematik und Informatik\, Arn
 imallee 6\, 14195 Berlin)
SEQUENCE:0
SUMMARY:Disputation René Rahn
UID:139045437@/www.mi.fu-berlin.de
URL:https://www.mi.fu-berlin.de/fb/dates/disputationen/Disputation-Rene-Rah
 n.html
END:VEVENT
END:VCALENDAR
